BEGIN:VCALENDAR
VERSION:2.0
PRODID:-//InterFace Conference Group - ECPv6.15.12.2//NONSGML v1.0//EN
CALSCALE:GREGORIAN
METHOD:PUBLISH
X-WR-CALNAME:InterFace Conference Group
X-ORIGINAL-URL:https://interfaceconferencegroup.com
X-WR-CALDESC:Events for InterFace Conference Group
REFRESH-INTERVAL;VALUE=DURATION:PT1H
X-Robots-Tag:noindex
X-PUBLISHED-TTL:PT1H
BEGIN:VTIMEZONE
TZID:America/New_York
BEGIN:DAYLIGHT
TZOFFSETFROM:-0500
TZOFFSETTO:-0400
TZNAME:EDT
DTSTART:20250309T070000
END:DAYLIGHT
BEGIN:STANDARD
TZOFFSETFROM:-0400
TZOFFSETTO:-0500
TZNAME:EST
DTSTART:20251102T060000
END:STANDARD
BEGIN:DAYLIGHT
TZOFFSETFROM:-0500
TZOFFSETTO:-0400
TZNAME:EDT
DTSTART:20260308T070000
END:DAYLIGHT
BEGIN:STANDARD
TZOFFSETFROM:-0400
TZOFFSETTO:-0500
TZNAME:EST
DTSTART:20261101T060000
END:STANDARD
BEGIN:DAYLIGHT
TZOFFSETFROM:-0500
TZOFFSETTO:-0400
TZNAME:EDT
DTSTART:20270314T070000
END:DAYLIGHT
BEGIN:STANDARD
TZOFFSETFROM:-0400
TZOFFSETTO:-0500
TZNAME:EST
DTSTART:20271107T060000
END:STANDARD
END:VTIMEZONE
BEGIN:VEVENT
DTSTART;TZID=America/New_York:20260616T110000
DTEND;TZID=America/New_York:20260616T190000
DTSTAMP:20260422T211847
CREATED:20260422T130707Z
LAST-MODIFIED:20260422T160022Z
UID:10000331-1781607600-1781636400@interfaceconferencegroup.com
SUMMARY:InterFace Net Lease West 2026
DESCRIPTION:France Media Inc.\, the InterFace Conference Group and Shopping Center Business magazine are pleased to announce that the 14th annual InterFace Net Lease West conference is taking place at a new time of year and in a new location\, June 16th at the Ritz-Carlton Dallas. \n\n\n\nInterFace Net Lease West combines high-level market information and networking and brings together leading NNN and sale-leaseback dealmakers from across the United States. \n\n\n\nThis year’s event will feature five panel sessions\, a networking lunch\, and will conclude with a networking cocktail reception. \n\n\n\nThe InterFace Net Lease West agenda will cover investment and financing trends across both the institutional and private client markets\, discuss the NNN capital markets environment\, and examine current market conditions in the sale-leaseback market. \n\n\n\n2026 is looking like it will be an up-and-down year for the NNN space\, which makes it all the more important to be well-informed and well-networked. InterFace Net Lease West offers you the chance to both hear insightful market information and interact with industry leaders. \n\n\n\nGet a great mid-year assessment of the market in a city (and state) with a vibrant NNN community—we look forward to seeing you at the revamped and reinvigorated InterFace Net Lease West! \n\n\n\n\nDetails/Register\n\n\n\n\n\n\n\n\n\nSubscribe to Upcoming Events\n\n\n\n\n\n\n\n\nFor speaking\, sponsorship and exhibiting information please contact: Richard Kelley (914-309-6954) or Scott France (404 832-8262 x 108).  \n\n\n\n\n\n\n\n\nOur Magazine Partners\n\n\n\n\n\n\nFrance Media Inc. is publisher of Seniors Housing Business\, Student Housing Business\, Southeast Real Estate Business\, Texas Real Estate Business\, Northeast Real Estate Business\, Western Real Estate Business\, Heartland Real Estate Business\, Multifamily & Affordable Housing Business\, Shopping Center Business\, California Centers\, and Retail & Restaurant Facility Business. \n\n\n\nFor more information about all of the commercial real estate magazines\, websites\, and newsletters published by France Media Inc.\, click here.
URL:https://interfaceconferencegroup.com/event/interface-net-lease-west-2026/
LOCATION:Ritz-Carlton Dallas\, 2121 McKinney Avenue\, Dallas\, Texas\, 75021\, United States
CATEGORIES:Calendar,Live Conference
ATTACH;FMTTYPE=image/webp:https://interfaceconferencegroup.com/wp-content/uploads/2026/04/a34610190b094c67b35ee09d8a4302d0_62ee1b680398ca7740bfb5465a417a8c-2.webp
END:VEVENT
END:VCALENDAR